BEGIN:VCALENDAR
VERSION:2.0
PRODID:-//Multi-Health Systems (MHS) - ECPv6.15.13//NONSGML v1.0//EN
CALSCALE:GREGORIAN
METHOD:PUBLISH
X-WR-CALNAME:Multi-Health Systems (MHS)
X-ORIGINAL-URL:https://mhs.com
X-WR-CALDESC:Events for Multi-Health Systems (MHS)
REFRESH-INTERVAL;VALUE=DURATION:PT1H
X-Robots-Tag:noindex
X-PUBLISHED-TTL:PT1H
BEGIN:VTIMEZONE
TZID:UTC
BEGIN:STANDARD
TZOFFSETFROM:+0000
TZOFFSETTO:+0000
TZNAME:UTC
DTSTART:20250101T000000
END:STANDARD
END:VTIMEZONE
BEGIN:VEVENT
DTSTART;TZID=UTC:20260811T080000
DTEND;TZID=UTC:20260814T170000
DTSTAMP:20260424T162209
CREATED:20260423T185550Z
LAST-MODIFIED:20260423T191222Z
UID:10000844-1786435200-1786726800@mhs.com
SUMMARY:Association of Threat Assessment Professionals (ATAP) - 34th Annual Threat Management Conference
DESCRIPTION:
URL:https://mhs.com/event/association-of-threat-assessment-professionals-atap-34th-annual-threat-management-conference/
LOCATION:Anaheim\, CA\, Anaheim\, CA\, United States
CATEGORIES:Conferences,Public Safety
END:VEVENT
END:VCALENDAR