BEGIN:VCALENDAR
VERSION:2.0
PRODID:-//Multi-Health Systems (MHS) - ECPv6.15.13//NONSGML v1.0//EN
CALSCALE:GREGORIAN
METHOD:PUBLISH
X-ORIGINAL-URL:https://mhs.com
X-WR-CALDESC:Events for Multi-Health Systems (MHS)
REFRESH-INTERVAL;VALUE=DURATION:PT1H
X-Robots-Tag:noindex
X-PUBLISHED-TTL:PT1H
BEGIN:VTIMEZONE
TZID:UTC
BEGIN:STANDARD
TZOFFSETFROM:+0000
TZOFFSETTO:+0000
TZNAME:UTC
DTSTART:20250101T000000
END:STANDARD
END:VTIMEZONE
BEGIN:VEVENT
DTSTART;TZID=UTC:20261013T080000
DTEND;TZID=UTC:20261016T170000
DTSTAMP:20260423T201755
CREATED:20260423T185553Z
LAST-MODIFIED:20260423T190828Z
UID:10000847-1791878400-1792170000@mhs.com
SUMMARY:2026 California Association of School Psychologists (CASP) Convention
DESCRIPTION:
URL:https://mhs.com/event/2026-california-association-of-school-psychologists-casp-convention/
LOCATION:Universal City\, CA\, Universal City\, CA\, United States
CATEGORIES:Conferences,Education
END:VEVENT
BEGIN:VEVENT
DTSTART;TZID=UTC:20261105T080000
DTEND;TZID=UTC:20261106T170000
DTSTAMP:20260423T201755
CREATED:20260423T185608Z
LAST-MODIFIED:20260423T190314Z
UID:10000851-1793865600-1793984400@mhs.com
SUMMARY:Arizona Association of School Psychologists (AASP) - Annual 2026 Conference
DESCRIPTION:
URL:https://mhs.com/event/arizona-association-of-school-psychologists-aasp-annual-2026-conference/
LOCATION:Arizona\, AZ\, United States
CATEGORIES:Conferences,Education
END:VEVENT
BEGIN:VEVENT
DTSTART;TZID=UTC:20261105T080000
DTEND;TZID=UTC:20261108T080000
DTSTAMP:20260423T201755
CREATED:20260423T185608Z
LAST-MODIFIED:20260423T190204Z
UID:10000852-1793865600-1794124800@mhs.com
SUMMARY:Texas Association of School Psychologists (TASP) - Annual 2026 Conference
DESCRIPTION:
URL:https://mhs.com/event/texas-association-of-school-psychologists-tasp-annual-2026-conference/
LOCATION:Denton\, TX\, Denton\, TX\, United States
CATEGORIES:Conferences,Education
END:VEVENT
END:VCALENDAR