BEGIN:VCALENDAR
VERSION:2.0
PRODID:-//Multi-Health Systems (MHS) - ECPv6.15.13//NONSGML v1.0//EN
CALSCALE:GREGORIAN
METHOD:PUBLISH
X-WR-CALNAME:Multi-Health Systems (MHS)
X-ORIGINAL-URL:https://mhs.com
X-WR-CALDESC:Events for Multi-Health Systems (MHS)
REFRESH-INTERVAL;VALUE=DURATION:PT1H
X-Robots-Tag:noindex
X-PUBLISHED-TTL:PT1H
BEGIN:VTIMEZONE
TZID:UTC
BEGIN:STANDARD
TZOFFSETFROM:+0000
TZOFFSETTO:+0000
TZNAME:UTC
DTSTART:20240101T000000
END:STANDARD
END:VTIMEZONE
BEGIN:VEVENT
DTSTART;TZID=UTC:20260419T080000
DTEND;TZID=UTC:20260421T170000
DTSTAMP:20260422T134325
CREATED:20260202T164550Z
LAST-MODIFIED:20260420T144244Z
UID:10000740-1776585600-1776790800@mhs.com
SUMMARY:Retail Industry Leaders Association (RILA) - Retail Asset Protection Annual (2026) Conference
DESCRIPTION:
URL:https://mhs.com/event/retail-industry-leaders-association-rila-retail-asset-protection-annual-2026-conference/
LOCATION:FL
CATEGORIES:Conferences,Talent Solutions
END:VEVENT
BEGIN:VEVENT
DTSTART;TZID=UTC:20260417T080000
DTEND;TZID=UTC:20260417T080000
DTSTAMP:20260422T134325
CREATED:20260202T164550Z
LAST-MODIFIED:20260202T164550Z
UID:10000739-1776412800-1776412800@mhs.com
SUMMARY:New Jersey Association for Gifted Children (NJAGC) - Annual (2026) Conference
DESCRIPTION:
URL:https://mhs.com/event/new-jersey-association-for-gifted-children-njagc-annual-2026-conference/
LOCATION:FL
CATEGORIES:Conferences,GATE
END:VEVENT
BEGIN:VEVENT
DTSTART;TZID=UTC:20260324T080000
DTEND;TZID=UTC:20260324T080000
DTSTAMP:20260422T134325
CREATED:20260202T164535Z
LAST-MODIFIED:20260202T164535Z
UID:10000738-1774339200-1774339200@mhs.com
SUMMARY:Digital Health -  Rewired 2026
DESCRIPTION:
URL:https://mhs.com/event/digital-health-rewired-2026/
LOCATION:FL
CATEGORIES:Clinical,Conferences
END:VEVENT
BEGIN:VEVENT
DTSTART;TZID=UTC:20260322T080000
DTEND;TZID=UTC:20260322T080000
DTSTAMP:20260422T134325
CREATED:20260202T164534Z
LAST-MODIFIED:20260202T164534Z
UID:10000737-1774166400-1774166400@mhs.com
SUMMARY:Texas Association of the Gifted (TAGT) - Annual 2026 Leadership Conference
DESCRIPTION:
URL:https://mhs.com/event/texas-association-of-the-gifted-tagt-annual-2026-leadership-conference/
LOCATION:FL
CATEGORIES:Conferences,GATE
END:VEVENT
BEGIN:VEVENT
DTSTART;TZID=UTC:20260312T080000
DTEND;TZID=UTC:20260312T080000
DTSTAMP:20260422T134325
CREATED:20260202T164534Z
LAST-MODIFIED:20260202T164534Z
UID:10000736-1773302400-1773302400@mhs.com
SUMMARY:North Carolina Association for the Gifted & Talented (NCAGT)- Annual (2026) Conference
DESCRIPTION:
URL:https://mhs.com/event/north-carolina-association-for-the-gifted-talented-ncagt-annual-2026-conference/
LOCATION:FL
CATEGORIES:Conferences,GATE
END:VEVENT
BEGIN:VEVENT
DTSTART;TZID=UTC:20260302T080000
DTEND;TZID=UTC:20260302T080000
DTSTAMP:20260422T134325
CREATED:20260202T164534Z
LAST-MODIFIED:20260202T164534Z
UID:10000735-1772438400-1772438400@mhs.com
SUMMARY:Georgia Association for Gifted Children (GAGC) - Annual 2026 Conference
DESCRIPTION:
URL:https://mhs.com/event/georgia-association-for-gifted-children-gagc-annual-2026-conference/
LOCATION:FL
CATEGORIES:Conferences,GATE
END:VEVENT
BEGIN:VEVENT
DTSTART;TZID=UTC:20260227T080000
DTEND;TZID=UTC:20260227T080000
DTSTAMP:20260422T134325
CREATED:20260202T164533Z
LAST-MODIFIED:20260202T164533Z
UID:10000734-1772179200-1772179200@mhs.com
SUMMARY:California Association for the Gifted (CAG) - Annual 2026 Conference
DESCRIPTION:
URL:https://mhs.com/event/california-association-for-the-gifted-cag-annual-2026-conference/
LOCATION:FL
CATEGORIES:Conferences,GATE
END:VEVENT
BEGIN:VEVENT
DTSTART;TZID=UTC:20260224T080000
DTEND;TZID=UTC:20260224T080000
DTSTAMP:20260422T134325
CREATED:20260202T164531Z
LAST-MODIFIED:20260202T164531Z
UID:10000733-1771920000-1771920000@mhs.com
SUMMARY:National Association of School Psychologists (NASP) - Annual 2026 Convention
DESCRIPTION:
URL:https://mhs.com/event/national-association-of-school-psychologists-nasp-annual-2026-convention/
LOCATION:FL
CATEGORIES:Conferences,Education
END:VEVENT
BEGIN:VEVENT
DTSTART;TZID=UTC:20260223T080000
DTEND;TZID=UTC:20260223T080000
DTSTAMP:20260422T134325
CREATED:20260202T164531Z
LAST-MODIFIED:20260202T164531Z
UID:10000732-1771833600-1771833600@mhs.com
SUMMARY:Kentucky Association for Gifted Education (KAGE) - Annual (2026) Conference
DESCRIPTION:
URL:https://mhs.com/event/kentucky-association-for-gifted-education-kage-annual-2026-conference/
LOCATION:FL
CATEGORIES:Conferences,GATE
END:VEVENT
BEGIN:VEVENT
DTSTART;TZID=UTC:20260223T080000
DTEND;TZID=UTC:20260223T080000
DTSTAMP:20260422T134325
CREATED:20260202T164530Z
LAST-MODIFIED:20260202T164530Z
UID:10000731-1771833600-1771833600@mhs.com
SUMMARY:Training 2026 Conference & Expo
DESCRIPTION:
URL:https://mhs.com/event/training-2026-conference-expo/
LOCATION:FL
CATEGORIES:Conferences,Talent
END:VEVENT
BEGIN:VEVENT
DTSTART;TZID=UTC:20260211T080000
DTEND;TZID=UTC:20260213T170000
DTSTAMP:20260422T134325
CREATED:20260202T164530Z
LAST-MODIFIED:20260202T165051Z
UID:10000730-1770796800-1771002000@mhs.com
SUMMARY:Arkansas Association of Gifted and Talented (AGATE) - Annual (2026) Conference
DESCRIPTION:
URL:https://mhs.com/event/arkansas-association-of-gifted-and-talented-agate-annual-2026-conference/
LOCATION:rogers\, AK\, Rogers\, AR\, United States
CATEGORIES:Conferences,GATE
END:VEVENT
BEGIN:VEVENT
DTSTART;TZID=UTC:20260210T080000
DTEND;TZID=UTC:20260211T080000
DTSTAMP:20260422T134325
CREATED:20260202T164530Z
LAST-MODIFIED:20260202T164855Z
UID:10000729-1770710400-1770796800@mhs.com
SUMMARY:Arizona Association of Gifted and Talented (AAGT) - Annual (2026) Conference
DESCRIPTION:
URL:https://mhs.com/event/arizona-association-of-gifted-and-talented-aagt-annual-2026-conference/
LOCATION:Mesa\, AZ\, Mesa\, AZ\, United States
CATEGORIES:Conferences,GATE
END:VEVENT
BEGIN:VEVENT
DTSTART;TZID=UTC:20251215T080000
DTEND;TZID=UTC:20251216T170000
DTSTAMP:20260422T134325
CREATED:20251006T210242Z
LAST-MODIFIED:20251006T210242Z
UID:10000635-1765785600-1765904400@mhs.com
SUMMARY:Indiana Association for the Gifted (IAG) Annual Conference
DESCRIPTION:
URL:https://mhs.com/event/indiana-association-for-the-gifted-iag-annual-conference/
LOCATION:FL
CATEGORIES:Conferences,GATE
END:VEVENT
BEGIN:VEVENT
DTSTART;TZID=UTC:20251211T080000
DTEND;TZID=UTC:20251212T170000
DTSTAMP:20260422T134325
CREATED:20251006T210242Z
LAST-MODIFIED:20251006T210242Z
UID:10000634-1765440000-1765558800@mhs.com
SUMMARY:Washington Educational Research Association (WERA) Annual Conference
DESCRIPTION:
URL:https://mhs.com/event/washington-educational-research-association-wera-annual-conference/
LOCATION:FL
CATEGORIES:Conferences,GATE
END:VEVENT
BEGIN:VEVENT
DTSTART;TZID=UTC:20251203T080000
DTEND;TZID=UTC:20251205T170000
DTSTAMP:20260422T134325
CREATED:20251006T210242Z
LAST-MODIFIED:20251006T210242Z
UID:10000633-1764748800-1764954000@mhs.com
SUMMARY:Texas Association of the Gifted (TAGT) giftED25 Annual Conference
DESCRIPTION:
URL:https://mhs.com/event/texas-association-of-the-gifted-tagt-gifted25-annual-conference/
LOCATION:FL
CATEGORIES:Conferences,GATE
END:VEVENT
BEGIN:VEVENT
DTSTART;TZID=UTC:20251113T080000
DTEND;TZID=UTC:20251115T170000
DTSTAMP:20260422T134325
CREATED:20251006T210229Z
LAST-MODIFIED:20251006T210229Z
UID:10000632-1763020800-1763226000@mhs.com
SUMMARY:National Association for Gifted Children (NAGC) Annual Conference
DESCRIPTION:
URL:https://mhs.com/event/national-association-for-gifted-children-nagc-annual-conference/
LOCATION:FL
CATEGORIES:Conferences,GATE
END:VEVENT
BEGIN:VEVENT
DTSTART;TZID=UTC:20251113T080000
DTEND;TZID=UTC:20251115T170000
DTSTAMP:20260422T134325
CREATED:20251006T210228Z
LAST-MODIFIED:20251006T210228Z
UID:10000631-1763020800-1763226000@mhs.com
SUMMARY:New York Association of School Psychologists (NYASP) Annual Conference
DESCRIPTION:
URL:https://mhs.com/event/new-york-association-of-school-psychologists-nyasp-annual-conference/
LOCATION:FL
CATEGORIES:Conferences,Education
END:VEVENT
BEGIN:VEVENT
DTSTART;TZID=UTC:20251112T080000
DTEND;TZID=UTC:20251114T170000
DTSTAMP:20260422T134325
CREATED:20251006T210227Z
LAST-MODIFIED:20251006T210227Z
UID:10000630-1762934400-1763139600@mhs.com
SUMMARY:Psychological Society of Ireland (PSI) Annual Conference
DESCRIPTION:
URL:https://mhs.com/event/psychological-society-of-ireland-psi-annual-conference/
LOCATION:FL
CATEGORIES:Clinical,Conferences
END:VEVENT
BEGIN:VEVENT
DTSTART;TZID=UTC:20251111T080000
DTEND;TZID=UTC:20251113T170000
DTSTAMP:20260422T134325
CREATED:20251006T210227Z
LAST-MODIFIED:20251006T210227Z
UID:10000629-1762848000-1763053200@mhs.com
SUMMARY:The Behavioral Health Tech (BHT) Conference
DESCRIPTION:
URL:https://mhs.com/event/the-behavioral-health-tech-bht-conference/
LOCATION:FL
CATEGORIES:Clinical Solutions,Conferences
END:VEVENT
END:VCALENDAR