BEGIN:VCALENDAR
VERSION:2.0
PRODID:-//Multi-Health Systems (MHS) - ECPv6.15.13//NONSGML v1.0//EN
CALSCALE:GREGORIAN
METHOD:PUBLISH
X-ORIGINAL-URL:https://mhs.com
X-WR-CALDESC:Events for Multi-Health Systems (MHS)
REFRESH-INTERVAL;VALUE=DURATION:PT1H
X-Robots-Tag:noindex
X-PUBLISHED-TTL:PT1H
BEGIN:VTIMEZONE
TZID:UTC
BEGIN:STANDARD
TZOFFSETFROM:+0000
TZOFFSETTO:+0000
TZNAME:UTC
DTSTART:20250101T000000
END:STANDARD
END:VTIMEZONE
BEGIN:VEVENT
DTSTART;TZID=UTC:20260922T080000
DTEND;TZID=UTC:20260922T080000
DTSTAMP:20260425T121134
CREATED:20260423T185550Z
LAST-MODIFIED:20260423T191008Z
UID:10000845-1790064000-1790064000@mhs.com
SUMMARY:The Behavioral Health Tech Conference - Annual 2026 Conference
DESCRIPTION:
URL:https://mhs.com/event/the-behavioral-health-tech-conference-annual-2026-conference/
LOCATION:CA
CATEGORIES:Clinical,Conferences
END:VEVENT
BEGIN:VEVENT
DTSTART;TZID=UTC:20260928T080000
DTEND;TZID=UTC:20260928T170000
DTSTAMP:20260425T121134
CREATED:20260423T185552Z
LAST-MODIFIED:20260423T190917Z
UID:10000846-1790582400-1790614800@mhs.com
SUMMARY:Oklahoma Association for Gifted\, Creative & Talented (OAGCT) - Annual 2026 Conference
DESCRIPTION:
URL:https://mhs.com/event/oklahoma-association-for-gifted-creative-talented-oagct-annual-2026-conference/
LOCATION:Tulsa\, OK\, Tulsa\, OK\, United States
CATEGORIES:Conferences,GATE
END:VEVENT
BEGIN:VEVENT
DTSTART;TZID=UTC:20261013T080000
DTEND;TZID=UTC:20261013T080000
DTSTAMP:20260425T121134
CREATED:20260423T185629Z
LAST-MODIFIED:20260423T190721Z
UID:10000856-1791878400-1791878400@mhs.com
SUMMARY:International Association of Interviewers (IAI) - Elite Training Days
DESCRIPTION:
URL:https://mhs.com/event/international-association-of-interviewers-iai-elite-training-days-2/
LOCATION:Pewaukee\, WI\, Pewaukee\, WI\, United States
CATEGORIES:Conferences,Talent Selection
END:VEVENT
BEGIN:VEVENT
DTSTART;TZID=UTC:20261013T080000
DTEND;TZID=UTC:20261016T170000
DTSTAMP:20260425T121134
CREATED:20260423T185553Z
LAST-MODIFIED:20260423T190828Z
UID:10000847-1791878400-1792170000@mhs.com
SUMMARY:2026 California Association of School Psychologists (CASP) Convention
DESCRIPTION:
URL:https://mhs.com/event/2026-california-association-of-school-psychologists-casp-convention/
LOCATION:Universal City\, CA\, Universal City\, CA\, United States
CATEGORIES:Conferences,Education
END:VEVENT
BEGIN:VEVENT
DTSTART;TZID=UTC:20261014T080000
DTEND;TZID=UTC:20261017T080000
DTSTAMP:20260425T121134
CREATED:20260423T185553Z
LAST-MODIFIED:20260423T190622Z
UID:10000848-1791964800-1792224000@mhs.com
SUMMARY:National Academy of Neuropsychology (NAN) - Annual 2026 Conference
DESCRIPTION:
URL:https://mhs.com/event/national-academy-of-neuropsychology-nan-annual-2026-conference/
LOCATION:Chicago\, IL\, Chicago\, IL\, United States
CATEGORIES:Clinical,Conferences
END:VEVENT
BEGIN:VEVENT
DTSTART;TZID=UTC:20261022T080000
DTEND;TZID=UTC:20261023T170000
DTSTAMP:20260425T121134
CREATED:20260423T185553Z
LAST-MODIFIED:20260423T190515Z
UID:10000849-1792656000-1792774800@mhs.com
SUMMARY:Tennessee Association For The Gifted (TAG) - Annual 2026 Conference
DESCRIPTION:
URL:https://mhs.com/event/tennessee-association-for-the-gifted-tag-annual-2026-conference/
LOCATION:Murfreesboro\, TN\, Murfreesboro\, TX\, United States
CATEGORIES:Conferences,GATE
END:VEVENT
BEGIN:VEVENT
DTSTART;TZID=UTC:20261025T080000
DTEND;TZID=UTC:20261030T170000
DTSTAMP:20260425T121134
CREATED:20260423T185554Z
LAST-MODIFIED:20260423T190429Z
UID:10000850-1792915200-1793379600@mhs.com
SUMMARY:International Corrections and Prisons Association (ICPA) Annual Conference - Annual 2026 Conference
DESCRIPTION:
URL:https://mhs.com/event/international-corrections-and-prisons-association-icpa-annual-conference-annual-2026-conference/
LOCATION:Belfast\, Ireland\, Belfast\, Ireland
CATEGORIES:Conferences,Public Safety
END:VEVENT
BEGIN:VEVENT
DTSTART;TZID=UTC:20261105T080000
DTEND;TZID=UTC:20261106T170000
DTSTAMP:20260425T121134
CREATED:20260423T185608Z
LAST-MODIFIED:20260423T190314Z
UID:10000851-1793865600-1793984400@mhs.com
SUMMARY:Arizona Association of School Psychologists (AASP) - Annual 2026 Conference
DESCRIPTION:
URL:https://mhs.com/event/arizona-association-of-school-psychologists-aasp-annual-2026-conference/
LOCATION:Arizona\, AZ\, United States
CATEGORIES:Conferences,Education
END:VEVENT
BEGIN:VEVENT
DTSTART;TZID=UTC:20261105T080000
DTEND;TZID=UTC:20261108T080000
DTSTAMP:20260425T121134
CREATED:20260423T185608Z
LAST-MODIFIED:20260423T190204Z
UID:10000852-1793865600-1794124800@mhs.com
SUMMARY:Texas Association of School Psychologists (TASP) - Annual 2026 Conference
DESCRIPTION:
URL:https://mhs.com/event/texas-association-of-school-psychologists-tasp-annual-2026-conference/
LOCATION:Denton\, TX\, Denton\, TX\, United States
CATEGORIES:Conferences,Education
END:VEVENT
BEGIN:VEVENT
DTSTART;TZID=UTC:20261105T080000
DTEND;TZID=UTC:20261108T170000
DTSTAMP:20260425T121134
CREATED:20260423T185608Z
LAST-MODIFIED:20260423T190121Z
UID:10000853-1793865600-1794157200@mhs.com
SUMMARY:National Association for Gifted Children (NAGC) - Annual 2026 Conference
DESCRIPTION:
URL:https://mhs.com/event/national-association-for-gifted-children-nagc-annual-2026-conference/
LOCATION:Milwaukee\, WI\, Milwaukee\, WI\, United States
CATEGORIES:Conferences,GATE
END:VEVENT
BEGIN:VEVENT
DTSTART;TZID=UTC:20261202T080000
DTEND;TZID=UTC:20261202T170000
DTSTAMP:20260425T121134
CREATED:20260423T185609Z
LAST-MODIFIED:20260423T185903Z
UID:10000854-1796198400-1796230800@mhs.com
SUMMARY:TAGT - giftED26 (Annual Conference)  - Annual 2026 Conference
DESCRIPTION:
URL:https://mhs.com/event/tagt-gifted26-annual-conference-annual-2026-conference/
LOCATION:Houston\,TX\, Houston\, TX\, United States
CATEGORIES:Conferences,GATE
END:VEVENT
BEGIN:VEVENT
DTSTART;TZID=UTC:20261214T080000
DTEND;TZID=UTC:20261216T170000
DTSTAMP:20260425T121134
CREATED:20260423T185609Z
LAST-MODIFIED:20260423T185747Z
UID:10000855-1797235200-1797440400@mhs.com
SUMMARY:Indiana Association for the Gifted (IAGC) - Annual 2026 Conference
DESCRIPTION:
URL:https://mhs.com/event/indiana-association-for-the-gifted-iagc-annual-2026-conference/
LOCATION:Indianapolis\, IN
CATEGORIES:Conferences,GATE
END:VEVENT
END:VCALENDAR