BEGIN:VCALENDAR
VERSION:2.0
PRODID:-//Multi-Health Systems (MHS) - ECPv6.15.13//NONSGML v1.0//EN
CALSCALE:GREGORIAN
METHOD:PUBLISH
X-ORIGINAL-URL:https://mhs.com
X-WR-CALDESC:Events for Multi-Health Systems (MHS)
REFRESH-INTERVAL;VALUE=DURATION:PT1H
X-Robots-Tag:noindex
X-PUBLISHED-TTL:PT1H
BEGIN:VTIMEZONE
TZID:UTC
BEGIN:STANDARD
TZOFFSETFROM:+0000
TZOFFSETTO:+0000
TZNAME:UTC
DTSTART:20250101T000000
END:STANDARD
END:VTIMEZONE
BEGIN:VEVENT
DTSTART;TZID=UTC:20260302T080000
DTEND;TZID=UTC:20260302T080000
DTSTAMP:20260422T134123
CREATED:20260202T164534Z
LAST-MODIFIED:20260202T164534Z
UID:10000735-1772438400-1772438400@mhs.com
SUMMARY:Georgia Association for Gifted Children (GAGC) - Annual 2026 Conference
DESCRIPTION:
URL:https://mhs.com/event/georgia-association-for-gifted-children-gagc-annual-2026-conference/
LOCATION:FL
CATEGORIES:Conferences,GATE
END:VEVENT
BEGIN:VEVENT
DTSTART;TZID=UTC:20260312T080000
DTEND;TZID=UTC:20260312T080000
DTSTAMP:20260422T134123
CREATED:20260202T164534Z
LAST-MODIFIED:20260202T164534Z
UID:10000736-1773302400-1773302400@mhs.com
SUMMARY:North Carolina Association for the Gifted & Talented (NCAGT)- Annual (2026) Conference
DESCRIPTION:
URL:https://mhs.com/event/north-carolina-association-for-the-gifted-talented-ncagt-annual-2026-conference/
LOCATION:FL
CATEGORIES:Conferences,GATE
END:VEVENT
BEGIN:VEVENT
DTSTART;TZID=UTC:20260322T080000
DTEND;TZID=UTC:20260322T080000
DTSTAMP:20260422T134123
CREATED:20260202T164534Z
LAST-MODIFIED:20260202T164534Z
UID:10000737-1774166400-1774166400@mhs.com
SUMMARY:Texas Association of the Gifted (TAGT) - Annual 2026 Leadership Conference
DESCRIPTION:
URL:https://mhs.com/event/texas-association-of-the-gifted-tagt-annual-2026-leadership-conference/
LOCATION:FL
CATEGORIES:Conferences,GATE
END:VEVENT
BEGIN:VEVENT
DTSTART;TZID=UTC:20260324T080000
DTEND;TZID=UTC:20260324T080000
DTSTAMP:20260422T134123
CREATED:20260202T164535Z
LAST-MODIFIED:20260202T164535Z
UID:10000738-1774339200-1774339200@mhs.com
SUMMARY:Digital Health -  Rewired 2026
DESCRIPTION:
URL:https://mhs.com/event/digital-health-rewired-2026/
LOCATION:FL
CATEGORIES:Clinical,Conferences
END:VEVENT
END:VCALENDAR